BEGIN:VCALENDAR
VERSION:2.0
PRODID:-//Ecole Saint Charles Tassin - ECPv6.15.11//NONSGML v1.0//EN
CALSCALE:GREGORIAN
METHOD:PUBLISH
X-ORIGINAL-URL:https://www.saintcharlestassin.fr
X-WR-CALDESC:Évènements pour Ecole Saint Charles Tassin
REFRESH-INTERVAL;VALUE=DURATION:PT1H
X-Robots-Tag:noindex
X-PUBLISHED-TTL:PT1H
BEGIN:VTIMEZONE
TZID:Europe/Paris
BEGIN:DAYLIGHT
TZOFFSETFROM:+0100
TZOFFSETTO:+0200
TZNAME:CEST
DTSTART:20210328T010000
END:DAYLIGHT
BEGIN:STANDARD
TZOFFSETFROM:+0200
TZOFFSETTO:+0100
TZNAME:CET
DTSTART:20211031T010000
END:STANDARD
BEGIN:DAYLIGHT
TZOFFSETFROM:+0100
TZOFFSETTO:+0200
TZNAME:CEST
DTSTART:20220327T010000
END:DAYLIGHT
BEGIN:STANDARD
TZOFFSETFROM:+0200
TZOFFSETTO:+0100
TZNAME:CET
DTSTART:20221030T010000
END:STANDARD
BEGIN:DAYLIGHT
TZOFFSETFROM:+0100
TZOFFSETTO:+0200
TZNAME:CEST
DTSTART:20230326T010000
END:DAYLIGHT
BEGIN:STANDARD
TZOFFSETFROM:+0200
TZOFFSETTO:+0100
TZNAME:CET
DTSTART:20231029T010000
END:STANDARD
END:VTIMEZONE
BEGIN:VEVENT
DTSTART;VALUE=DATE:20220415
DTEND;VALUE=DATE:20220629
DTSTAMP:20260425T154432
CREATED:20220412T171525Z
LAST-MODIFIED:20220412T171600Z
UID:1146-1649980800-1656460799@www.saintcharlestassin.fr
SUMMARY:SAVE THE DATES
DESCRIPTION:La fin de l’année s’annonce riche en évènements conviviaux ! L’APEL de l’école St Charles est heureuse de vous faire part de l’ensemble des dates importantes à retenir. Nous vous attendons nombreux !
URL:https://www.saintcharlestassin.fr/event/save-the-dates/
LOCATION:Ecole Saint-Charles\, 7 promenade des Tuileries\, Tassin la Demi-Lune\, 69160\, France
ATTACH;FMTTYPE=image/jpeg:https://www.saintcharlestassin.fr/wp-content/uploads/2022/04/220415-bolderiz.jpg
END:VEVENT
BEGIN:VEVENT
DTSTART;VALUE=DATE:20220620
DTEND;VALUE=DATE:20220624
DTSTAMP:20260425T154432
CREATED:20220410T153804Z
LAST-MODIFIED:20220410T153804Z
UID:1111-1655683200-1656028799@www.saintcharlestassin.fr
SUMMARY:CLASSE DE DECOUVERTE
DESCRIPTION:Au tour des classes de CP et de CE1 de profiter d’un séjour au vert ! Les élèves se rendront dans les Alpes du 20 au 23 juin sur le site de l’Alpestre\, encadré par l’organisme Temps-Jeunes. Différentes activités seront proposées aux élèves tout au long du séjour.
URL:https://www.saintcharlestassin.fr/event/classe-de-decouverte/
LOCATION:Ecole Saint-Charles\, 7 promenade des Tuileries\, Tassin la Demi-Lune\, 69160\, France
ATTACH;FMTTYPE=image/jpeg:https://www.saintcharlestassin.fr/wp-content/uploads/2022/04/220620-classe-decouvertes.jpg
END:VEVENT
END:VCALENDAR