BEGIN:VCALENDAR
VERSION:2.0
PRODID:-//Ecole Saint Charles Tassin - ECPv6.15.11//NONSGML v1.0//EN
CALSCALE:GREGORIAN
METHOD:PUBLISH
X-ORIGINAL-URL:https://www.saintcharlestassin.fr
X-WR-CALDESC:Évènements pour Ecole Saint Charles Tassin
REFRESH-INTERVAL;VALUE=DURATION:PT1H
X-Robots-Tag:noindex
X-PUBLISHED-TTL:PT1H
BEGIN:VTIMEZONE
TZID:Europe/Paris
BEGIN:DAYLIGHT
TZOFFSETFROM:+0100
TZOFFSETTO:+0200
TZNAME:CEST
DTSTART:20220327T010000
END:DAYLIGHT
BEGIN:STANDARD
TZOFFSETFROM:+0200
TZOFFSETTO:+0100
TZNAME:CET
DTSTART:20221030T010000
END:STANDARD
BEGIN:DAYLIGHT
TZOFFSETFROM:+0100
TZOFFSETTO:+0200
TZNAME:CEST
DTSTART:20230326T010000
END:DAYLIGHT
BEGIN:STANDARD
TZOFFSETFROM:+0200
TZOFFSETTO:+0100
TZNAME:CET
DTSTART:20231029T010000
END:STANDARD
BEGIN:DAYLIGHT
TZOFFSETFROM:+0100
TZOFFSETTO:+0200
TZNAME:CEST
DTSTART:20240331T010000
END:DAYLIGHT
BEGIN:STANDARD
TZOFFSETFROM:+0200
TZOFFSETTO:+0100
TZNAME:CET
DTSTART:20241027T010000
END:STANDARD
END:VTIMEZONE
BEGIN:VEVENT
DTSTART;TZID=Europe/Paris:20230101T170000
DTEND;TZID=Europe/Paris:20230512T190000
DTSTAMP:20260425T014705
CREATED:20220410T154003Z
LAST-MODIFIED:20230223T145938Z
UID:1114-1672592400-1683918000@www.saintcharlestassin.fr
SUMMARY:PORTES OUVERTES 2023
DESCRIPTION:La soirée portes ouvertes est prévue le vendredi 12 mai à partir de 17h. L’ensemble de l’établissement pourra être visité afin de permettre aux futures familles de l’école de découvrir les différents espaces. Il sera aussi possible d’échanger avec l’ensemble de la communauté éducative de l’école.\nNous vous attendons nombreux !
URL:https://www.saintcharlestassin.fr/event/portes-ouvertes-2022/
LOCATION:Ecole Saint-Charles\, 7 promenade des Tuileries\, Tassin la Demi-Lune\, 69160\, France
ATTACH;FMTTYPE=image/jpeg:https://www.saintcharlestassin.fr/wp-content/uploads/2023/02/PORTE-OUVERTE-1.jpg
END:VEVENT
BEGIN:VEVENT
DTSTART;TZID=Europe/Paris:20230220T080000
DTEND;TZID=Europe/Paris:20230402T170000
DTSTAMP:20260425T014705
CREATED:20230220T150401Z
LAST-MODIFIED:20230220T151417Z
UID:1293-1676880000-1680454800@www.saintcharlestassin.fr
SUMMARY:Course solidaire
DESCRIPTION:Fin février\, nous rentrerons dans le temps du Carême. L’équipe pastorale vous propose\, comme l’année dernière\, de vivre ce temps fort d’une manière originale et concrète : \nRUN IN SAINT CHARLES Samedi 1er avril de 10h à 13h. \nCet évènement est organisé au profit des enfants porteurs de troubles autistiques de l’école Saint Charles. La course aura lieu le 1er avril\, veille de la journée mondiale de sensibilisation à l’Autisme. Venez TOUS EN BLEU pour soutenir cette cause. Les bénéfices de la course seront reversés en intégralité au profit du dispositif ULIS de l’école Saint Charles\, pour leur projet d’équithérapie.
URL:https://www.saintcharlestassin.fr/event/course-solidaire/
ATTACH;FMTTYPE=image/png:https://www.saintcharlestassin.fr/wp-content/uploads/2023/02/Capture-decran-2023-02-20-155906.png
END:VEVENT
BEGIN:VEVENT
DTSTART;TZID=Europe/Paris:20230224T080000
DTEND;TZID=Europe/Paris:20230328T170000
DTSTAMP:20260425T014705
CREATED:20230224T212105Z
LAST-MODIFIED:20230224T212602Z
UID:1305-1677225600-1680022800@www.saintcharlestassin.fr
SUMMARY:DATES IMPORTANTES
DESCRIPTION:
URL:https://www.saintcharlestassin.fr/event/dates-importantes/
ATTACH;FMTTYPE=image/jpeg:https://www.saintcharlestassin.fr/wp-content/uploads/2023/02/dates-importantes.jpeg
END:VEVENT
END:VCALENDAR