BEGIN:VCALENDAR
VERSION:2.0
PRODID:-//Ecole Saint Charles Tassin - ECPv6.15.11//NONSGML v1.0//EN
CALSCALE:GREGORIAN
METHOD:PUBLISH
X-WR-CALNAME:Ecole Saint Charles Tassin
X-ORIGINAL-URL:https://www.saintcharlestassin.fr
X-WR-CALDESC:Évènements pour Ecole Saint Charles Tassin
REFRESH-INTERVAL;VALUE=DURATION:PT1H
X-Robots-Tag:noindex
X-PUBLISHED-TTL:PT1H
BEGIN:VTIMEZONE
TZID:Europe/Paris
BEGIN:DAYLIGHT
TZOFFSETFROM:+0100
TZOFFSETTO:+0200
TZNAME:CEST
DTSTART:20220327T010000
END:DAYLIGHT
BEGIN:STANDARD
TZOFFSETFROM:+0200
TZOFFSETTO:+0100
TZNAME:CET
DTSTART:20221030T010000
END:STANDARD
BEGIN:DAYLIGHT
TZOFFSETFROM:+0100
TZOFFSETTO:+0200
TZNAME:CEST
DTSTART:20230326T010000
END:DAYLIGHT
BEGIN:STANDARD
TZOFFSETFROM:+0200
TZOFFSETTO:+0100
TZNAME:CET
DTSTART:20231029T010000
END:STANDARD
BEGIN:DAYLIGHT
TZOFFSETFROM:+0100
TZOFFSETTO:+0200
TZNAME:CEST
DTSTART:20240331T010000
END:DAYLIGHT
BEGIN:STANDARD
TZOFFSETFROM:+0200
TZOFFSETTO:+0100
TZNAME:CET
DTSTART:20241027T010000
END:STANDARD
END:VTIMEZONE
BEGIN:VEVENT
DTSTART;TZID=Europe/Paris:20231130T080000
DTEND;TZID=Europe/Paris:20231223T170000
DTSTAMP:20260424T113031
CREATED:20231130T163936Z
LAST-MODIFIED:20231130T163936Z
UID:1344-1701331200-1703350800@www.saintcharlestassin.fr
SUMMARY:Marché de Noël 2023
DESCRIPTION:
URL:https://www.saintcharlestassin.fr/event/marche-de-noel-2023/
ATTACH;FMTTYPE=application/pdf:https://www.saintcharlestassin.fr/wp-content/uploads/2023/11/Gmail-AFFICHE-MARCHE-NOEL_2023-2-1.pdf
END:VEVENT
END:VCALENDAR