BEGIN:VCALENDAR
VERSION:2.0
PRODID:-//Ecole Saint Charles Tassin - ECPv6.15.11//NONSGML v1.0//EN
CALSCALE:GREGORIAN
METHOD:PUBLISH
X-WR-CALNAME:Ecole Saint Charles Tassin
X-ORIGINAL-URL:https://www.saintcharlestassin.fr
X-WR-CALDESC:Évènements pour Ecole Saint Charles Tassin
REFRESH-INTERVAL;VALUE=DURATION:PT1H
X-Robots-Tag:noindex
X-PUBLISHED-TTL:PT1H
BEGIN:VTIMEZONE
TZID:Europe/Paris
BEGIN:DAYLIGHT
TZOFFSETFROM:+0100
TZOFFSETTO:+0200
TZNAME:CEST
DTSTART:20210328T010000
END:DAYLIGHT
BEGIN:STANDARD
TZOFFSETFROM:+0200
TZOFFSETTO:+0100
TZNAME:CET
DTSTART:20211031T010000
END:STANDARD
BEGIN:DAYLIGHT
TZOFFSETFROM:+0100
TZOFFSETTO:+0200
TZNAME:CEST
DTSTART:20220327T010000
END:DAYLIGHT
BEGIN:STANDARD
TZOFFSETFROM:+0200
TZOFFSETTO:+0100
TZNAME:CET
DTSTART:20221030T010000
END:STANDARD
BEGIN:DAYLIGHT
TZOFFSETFROM:+0100
TZOFFSETTO:+0200
TZNAME:CEST
DTSTART:20230326T010000
END:DAYLIGHT
BEGIN:STANDARD
TZOFFSETFROM:+0200
TZOFFSETTO:+0100
TZNAME:CET
DTSTART:20231029T010000
END:STANDARD
BEGIN:DAYLIGHT
TZOFFSETFROM:+0100
TZOFFSETTO:+0200
TZNAME:CEST
DTSTART:20240331T010000
END:DAYLIGHT
BEGIN:STANDARD
TZOFFSETFROM:+0200
TZOFFSETTO:+0100
TZNAME:CET
DTSTART:20241027T010000
END:STANDARD
END:VTIMEZONE
BEGIN:VEVENT
DTSTART;TZID=Europe/Paris:20220830T080000
DTEND;TZID=Europe/Paris:20221205T170000
DTSTAMP:20260425T060700
CREATED:20220830T193715Z
LAST-MODIFIED:20220830T194326Z
UID:1201-1661846400-1670259600@www.saintcharlestassin.fr
SUMMARY:Dates importantes APEL
DESCRIPTION:L’association des parents d’élèves propose plusieurs évenements conviviaux pour ce premier semestre. \nA vos agendas !
URL:https://www.saintcharlestassin.fr/event/dates-importantes-apel-2/
ATTACH;FMTTYPE=image/jpeg:https://www.saintcharlestassin.fr/wp-content/uploads/2022/08/image0-2-scaled.jpeg
END:VEVENT
BEGIN:VEVENT
DTSTART;TZID=Europe/Paris:20220919T080000
DTEND;TZID=Europe/Paris:20230228T170000
DTSTAMP:20260425T060700
CREATED:20220919T075954Z
LAST-MODIFIED:20230220T145528Z
UID:1254-1663574400-1677603600@www.saintcharlestassin.fr
SUMMARY:Demande d'inscription
DESCRIPTION:Vous pouvez contacter l’école par téléphone ou par mail à partir du 1er octobre 2022  pour une demande d’inscription à partir de septembre 2023. Un rendez-vous d’inscription sera proposé avec Mme Gardelli chef d’établissement.
URL:https://www.saintcharlestassin.fr/event/demande-dinscription/
ATTACH;FMTTYPE=image/jpeg:https://www.saintcharlestassin.fr/wp-content/uploads/2022/09/20210830-18865-Yoan-Oger-scaled.jpg
END:VEVENT
BEGIN:VEVENT
DTSTART;TZID=Europe/Paris:20221121T080000
DTEND;TZID=Europe/Paris:20221204T170000
DTSTAMP:20260425T060700
CREATED:20221121T125108Z
LAST-MODIFIED:20221121T125108Z
UID:1268-1669017600-1670173200@www.saintcharlestassin.fr
SUMMARY:Marché de Noël 2022
DESCRIPTION:
URL:https://www.saintcharlestassin.fr/event/marche-de-noel-2022/
ATTACH;FMTTYPE=image/jpeg:https://www.saintcharlestassin.fr/wp-content/uploads/2022/11/AFFICHE-MARCHE-NOEL_2022-1-scaled.jpg
END:VEVENT
END:VCALENDAR