BEGIN:VCALENDAR
VERSION:2.0
PRODID:-//Ecole Saint Charles Tassin - ECPv6.15.11//NONSGML v1.0//EN
CALSCALE:GREGORIAN
METHOD:PUBLISH
X-ORIGINAL-URL:https://www.saintcharlestassin.fr
X-WR-CALDESC:Évènements pour Ecole Saint Charles Tassin
REFRESH-INTERVAL;VALUE=DURATION:PT1H
X-Robots-Tag:noindex
X-PUBLISHED-TTL:PT1H
BEGIN:VTIMEZONE
TZID:Europe/Paris
BEGIN:DAYLIGHT
TZOFFSETFROM:+0100
TZOFFSETTO:+0200
TZNAME:CEST
DTSTART:20230326T010000
END:DAYLIGHT
BEGIN:STANDARD
TZOFFSETFROM:+0200
TZOFFSETTO:+0100
TZNAME:CET
DTSTART:20231029T010000
END:STANDARD
BEGIN:DAYLIGHT
TZOFFSETFROM:+0100
TZOFFSETTO:+0200
TZNAME:CEST
DTSTART:20240331T010000
END:DAYLIGHT
BEGIN:STANDARD
TZOFFSETFROM:+0200
TZOFFSETTO:+0100
TZNAME:CET
DTSTART:20241027T010000
END:STANDARD
BEGIN:DAYLIGHT
TZOFFSETFROM:+0100
TZOFFSETTO:+0200
TZNAME:CEST
DTSTART:20250330T010000
END:DAYLIGHT
BEGIN:STANDARD
TZOFFSETFROM:+0200
TZOFFSETTO:+0100
TZNAME:CET
DTSTART:20251026T010000
END:STANDARD
BEGIN:DAYLIGHT
TZOFFSETFROM:+0100
TZOFFSETTO:+0200
TZNAME:CEST
DTSTART:20260329T010000
END:DAYLIGHT
BEGIN:STANDARD
TZOFFSETFROM:+0200
TZOFFSETTO:+0100
TZNAME:CET
DTSTART:20261025T010000
END:STANDARD
END:VTIMEZONE
BEGIN:VEVENT
DTSTART;TZID=Europe/Paris:20240922T080000
DTEND;TZID=Europe/Paris:20250221T170000
DTSTAMP:20260423T133604
CREATED:20240922T145501Z
LAST-MODIFIED:20241216T082233Z
UID:1470-1726992000-1740157200@www.saintcharlestassin.fr
SUMMARY:Préinscriptions année 2025-2026
DESCRIPTION:Pour une demande de préinscription merci de renseigner au plus tôt le formulaire de préinscription. Nous vous contacterons à la suite pour un rendez-vous avec Mme Gardelli. \n  \nLIEN  \n  \n 
URL:https://www.saintcharlestassin.fr/event/preinscriptions-annee-2025-2026/
END:VEVENT
BEGIN:VEVENT
DTSTART;TZID=Europe/Paris:20241215T080000
DTEND;TZID=Europe/Paris:20250118T170000
DTSTAMP:20260423T133604
CREATED:20241215T161926Z
LAST-MODIFIED:20250105T160743Z
UID:1550-1734249600-1737219600@www.saintcharlestassin.fr
SUMMARY:Voeux 2025
DESCRIPTION:  \nBELLE ET HEUREUSE ANNEE 2025 !
URL:https://www.saintcharlestassin.fr/event/voeux-2025/
ATTACH;FMTTYPE=image/jpeg:https://www.saintcharlestassin.fr/wp-content/uploads/2024/12/Capture-decran-2025-01-05-170702.jpg
END:VEVENT
END:VCALENDAR